BEGIN:VCALENDAR
VERSION:2.0
PRODID:-//wp-events-plugin.com//7.2.3.1//EN
BEGIN:VEVENT
UID:106@stadthalle-kirchheimbolanden.de
DTSTART:20170204T173300Z
DTEND:20170204T173300Z
DTSTAMP:20200625T062336Z
URL:https://stadthalle-kirchheimbolanden.de/veranstaltungen/kibo-karneval-
 e-v-1-prunksitzung-4/
SUMMARY:Kibo Karneval e.V. - 1. Prunksitzung
DESCRIPTION:Tickets erhalten Sie online unter www.kibo-karneval.de\n\n&nbsp
 \;
END:VEVENT
END:VCALENDAR