BEGIN:VCALENDAR
VERSION:2.0
PRODID:-//wp-events-plugin.com//7.2.3.1//EN
BEGIN:VEVENT
UID:101@stadthalle-kirchheimbolanden.de
DTSTART:20170227T173300Z
DTEND:20170327T173300Z
DTSTAMP:20200625T062336Z
URL:https://stadthalle-kirchheimbolanden.de/veranstaltungen/kibo-karneval-
 e-v-rosenmontagsball-mit-bayernmaen-die-partykracher/
SUMMARY:Kibo Karneval e.V. - Rosenmontagsball mit BAYERNMÄN - die Partykra
 cher
DESCRIPTION:Tickets erhalten Sie online unter www.kibo-karneval.de\n\n&nbsp
 \;
END:VEVENT
END:VCALENDAR