BEGIN:VCALENDAR
VERSION:2.0
PRODID:-//wp-events-plugin.com//7.2.3.1//EN
BEGIN:VEVENT
UID:97@stadthalle-kirchheimbolanden.de
DTSTART:20170409T160000Z
DTEND:20170409T160000Z
DTSTAMP:20200625T062336Z
URL:https://stadthalle-kirchheimbolanden.de/veranstaltungen/klavierreihe-2
 017-junge-stars-der-klassik-stefan-cassomenos/
SUMMARY:Klavierreihe 2017 "Junge Stars der Klassik" - Stefan Cassomenos
DESCRIPTION:Beginn: 18 Uhr\nEinlass: 17 Uhr\nVeranstalter: Stadt Kirchheimb
 olanden\n\nZum dritten Mal findet im Frühjahr 2017 die erfolgreiche Klavi
 erreihe „Junge Stars der Klassik“ mit den Preisträgern der Internatio
 nal Telekom Beethoven Competition Bonn in Kirchheimbolanden statt.\n\nStef
 an Cassomenos - Preisträger Internationaler Telekom Beethoven Wettbewerb 
 Bonn 2013\n\nDer in Melbourne geborene Pianist und Komponist Stefan Cassom
 enos hatte bereits im Alter von zehn Jahren internationale Konzertauftritt
 e und spielte mit sechzehn seine erste eigene Komposition „Klavierkonzer
 t Nr. 1: Ägäische Odyssee“.\nEr ist zweiter Preisträger des Internati
 onalen Telekom Beethoven Wettbewerbs Bonn 2013 und zahlreicher anderer nat
 ionaler und internationaler Klavierwettbewerbe.\nEr hat vielfältige Kompo
 sitionsaufträge und ist künstlerischer Leiter mehrerer Festivals und gef
 ragter musikalischer Projektpartner in ganz Australien.\nStefan Cassomenos
  wurde 1985 in Melbourne geboren. Seinen ersten Klavierunterricht erhielt 
 er bei Margarita Krupina\, studierte anschließend an der University of Me
 lbourne und der Australia National Academy of Music und legte sein Examen 
 im Fach Klavier unter der Betreuung von Stephen McIntyre\, Jan Munro und M
 ichael Kieran-Harvey ab.\n\nProgramm:\n\nCarl Vine (*1954)\nSonate Nr. 1 (
 1990)\n\nSofia Gubaidulina (*1931)\nChaconne (1963)\n\nLudwig van Beethove
 n\nKlaviersonate Nr. 2\ncis-Moll\, op 27\n“Mondscheinsonate”\n________
 ___\n\nFranz Liszt / Ludwig van Beethoven\nSymphonie Nr. 7\nA-Dur\, op. 92
 \n\nFoto: Dan Hannen\n\nBuchung Einzelkonzert:\n\n\n\n&nbsp\;\n\n&nbsp\;\n
 \n&nbsp\;\n\nBuchung Abonnement Klavierreihe 2017\n\n\n\n&nbsp\;\n\n&nbsp\
 ;
END:VEVENT
END:VCALENDAR