BEGIN:VCALENDAR
VERSION:2.0
PRODID:-//wp-events-plugin.com//7.2.3.1//EN
BEGIN:VEVENT
UID:94@stadthalle-kirchheimbolanden.de
DTSTART:20171006T180000Z
DTEND:20171006T180000Z
DTSTAMP:20200625T062350Z
URL:https://stadthalle-kirchheimbolanden.de/veranstaltungen/magie-in-der-o
 rangerie-die-3-kirchheimbolander-variete-nacht/
SUMMARY:„Magie in der Orangerie“ – Die 3. Kirchheimbolander Varieté-
 Nacht
DESCRIPTION:Beginn: 20 Uhr\nEinlass: 19 Uhr\nVeranstalter: Stadt Kirchheimb
 olanden in Zusammenarbeit mit Kelly Entertainment (www.die-Zauberer.de)\n\
 n„Magie in der Orangerie“\nAm Freitag\, 06.Oktober\, verwandelt sich 
 die Stadthalle wieder in einen traumhaften Varieté-Palast. Hochkarätige 
 Künstler entführen die Zuschauer in eine zauberhafte Welt mit hochkarät
 iger Illusionskunst\, Tempo-Jonglage\, Comedy und Artistik auf höchstem N
 iveau. Durch den Abend führt wie auch im vergangenen Jahr Detlef Simon al
 ias DESiMO. Er gehört zu den bekanntesten und beliebtesten Moderatoren De
 utschlands. Der smarte Hannoveraner spannt locker\, individuell und schlag
 fertig den Bogen zwischen Comedy\, Magie\, Kunst\, Klamauk\, Niveau und Sh
 ow. Erleben Sie die 3. Kirchheimbolander Varieté-Nacht „Magie in der Or
 angerie“\, lassen Sie sich verzaubern\, träumen und staunen Sie mit.\n\
 n„Magie in der Orangerie“ – Die 3. Kirchheimbolander Varieté-Nacht\
 nFreitag\, 06.Oktober\, 20 Uhr (Sektempfang &amp\; Fingerfood ab 19 Uhr)\
 n\n&nbsp\;\n\n\n\n&nbsp\;\n\n&nbsp\;
ATTACH;FMTTYPE=image/jpeg:https://stadthalle-kirchheimbolanden.de/wp-conte
 nt/uploads/2017/02/plakat_DV_small1.jpg
END:VEVENT
END:VCALENDAR