BEGIN:VCALENDAR
VERSION:2.0
PRODID:-//wp-events-plugin.com//7.2.3.1//EN
BEGIN:VEVENT
UID:58@stadthalle-kirchheimbolanden.de
DTSTART;VALUE=DATE:20180811
DTEND;VALUE=DATE:20180814
DTSTAMP:20200625T062402Z
URL:https://stadthalle-kirchheimbolanden.de/veranstaltungen/residenzfest/
SUMMARY:Residenzfest
DESCRIPTION:Flyer Resi 2018 Final web\n\n&nbsp\;\n\nKirchheimbolanden lädt
  ein zum 68. Residenzfest vom 11. – 13. August 2018.\n\nErst frisch zum 
 „Schönsten Weinfest 2017“ gekürt\, geht das Residenzfest unter dem M
 otto „Drei Sommertage in der kleinen Residenz“ in die 68. Runde.\n\nKi
 rchheimbolanden lädt wiedermals zur Einkehr hinter historischen Mauern un
 d Türmen\, in idyllische Hoflauben ein. Genießen Sie beim überregional 
 bekannten und beliebten Residenzfest in stimmungsvollem Flair und Ambiente
 \, verschiedene Pfälzer Spezialitäten und Köstlichkeiten sowie eine umf
 angreiche Auswahl an regionalen und überregionalen Weinen.\n\nMusikalisch
  lockt an allen Veranstaltungstagen\, eine breite Musikpalette mit viel Li
 ve-Musik. Verschiedenste Bands\, Entertainer\, Musikduos und Tanzkapellen 
 bieten ein breites Spektrum für Jung und Alt. Ergänzend haben Besucher a
 m Sonntag auch Zeit zwischen Wein und Köstlichkeiten beim verkaufsoffenen
  Sonntag durch die Geschäfte zu schlendern. Am Montagabend beschließt da
 s malerische Höhenschauspiel über den Dächern der „Kleinen Residenz
 “ das Fest\, wenn um 22.30 Uhr zur klassischen Musik\, passend zum 650. 
 Stadtjubiläum ein wahrhaftig grandioses Feuerwerk abgebrannt wird.\n\nDam
 it die Besucher das Fest unbeschwert genießen können\, fahren bis in die
  Nachtstunden zusätzliche Busse und Bahnen.\n\nSeien Sie zu Gast im Herze
 n der Nordpfalz\, genießen Sie Speis und Trank beim „schönsten Weinfes
 t 2017“ und einem der beliebtesten Heimatfeste der Pfalz!\n\nHier geht's
  zum Flyer
ATTACH;FMTTYPE=image/jpeg:https://stadthalle-kirchheimbolanden.de/wp-conte
 nt/uploads/2018/05/Unbenannt.jpg
END:VEVENT
END:VCALENDAR